BEGIN:VCALENDAR
PRODID:-//eluceo/ical//2.0/EN
VERSION:2.0
CALSCALE:GREGORIAN
BEGIN:VEVENT
UID:3298691bd05c71e8a13e838cb0c0208a
DTSTAMP:20260421T061014Z
SUMMARY:The "Big Megillah" Purim Extravaganza
DESCRIPTION:Jewish Federation of West-Central New Jersey\nCommunity Calenda
 r\nhttps://jfedwcnj.org/calendar/the-big-megillah-purim-extravaganza-14567
 97138\n\nJoin us and celebrate Purim!  We will have fun stations including
 :\nbaking hamantaschen (3 sided cookies)\; making a Shalach Manot basket (
 basket filled with goodies to give to a friend or relative)\; games and pr
 izes\; make your own mask and grogger (noisemaker)\nFeaturing a music and 
 puppet show performed by Yosi.  Pizza and dessert included.\nWear a costum
 e for our parade.  Bring a recycled water bottle to make your grogger.  Br
 ing a non-perishable food item for our community basket to...
DTSTART;TZID=America/New_York:20160324T173000
DTEND;TZID=America/New_York:20160324T193000
END:VEVENT
END:VCALENDAR
