BEGIN:VCALENDAR
PRODID:-//eluceo/ical//2.0/EN
VERSION:2.0
CALSCALE:GREGORIAN
BEGIN:VEVENT
UID:d99c8e09b5e6e6cd14dbf3fbb0e77377
DTSTAMP:20260422T163340Z
SUMMARY:The Band’s Visit to NYC
DESCRIPTION:Jewish Federation of West-Central New Jersey\nCommunity Calenda
 r\nhttps://jfedwcnj.org/calendar/the-bands-visit-to-nyc-1538162414\n\n$185
 /member • $200/person includes Orchestra Ticket and Coach Bus. Dinner is
  on your own. A passionate story about an Egyptian band that awakes a slee
 py Israeli town with their music.
DTSTART;TZID=America/New_York:20181115T150000
DTEND;TZID=America/New_York:20181115T220000
END:VEVENT
END:VCALENDAR
