BEGIN:VCALENDAR
PRODID:-//eluceo/ical//2.0/EN
VERSION:2.0
CALSCALE:GREGORIAN
BEGIN:VEVENT
UID:c015fd6a5b4bb46a7aacd06a042a8bcc
DTSTAMP:20260422T140702Z
SUMMARY:"The Art of Agreement\," a model for: Workplace Wellness
DESCRIPTION:Jewish Federation of West-Central New Jersey\nCommunity Calenda
 r\nhttps://jfedwcnj.org/calendar/the-art-of-agreement-a-model-for-workplac
 e-wellness\n\nJoin us for networking\, lunch & a presentation about "The A
 rt of Agreement\," a model for:\nWorkplace Wellness \n\n \n\nHosted and 
 sponsored by Quantum Wellness \n\n \n\nFriday\, April 8\, 2022 \n\n12:
 00pm \n\nQuantum Wellness \n\n327 US- 202\, Bedminster \n\nCouvert: $35
  \n\nWalk - in: $40 \n\n \n\nFor more infromation contact Lauren Edelma
 n 908-758-2003 or Ledelman@jfedshaw.org \n\n \n\nThank you to our sponso
 r: \n\nPNC Private Bank \n\n 
DTSTART;TZID=America/New_York:20220408T120000
DTEND;TZID=America/New_York:20220408T133000
END:VEVENT
END:VCALENDAR
