BEGIN:VCALENDAR
PRODID:-//eluceo/ical//2.0/EN
VERSION:2.0
CALSCALE:GREGORIAN
BEGIN:VEVENT
UID:94b73b6be6be930648ceda0456ef08b6
DTSTAMP:20260421T131244Z
SUMMARY:The Afterlife...And Getting There Gently
DESCRIPTION:Jewish Federation of West-Central New Jersey\nCommunity Calenda
 r\nhttps://jfedwcnj.org/calendar/the-afterlifeand-getting-there-gently-142
 6266975\n\nDate: Tuesday \,March 24\, 2015 Time: 9:00am-11:30am Place: Jew
 ish Family Services 52 Concordia Shopping Center\, Monroe Township\, NJ 08
 831 (Bagels & Coffee will be served)Presenter: Bruce A. Birnberg\, LCSW\, 
 Executive Director of Stein Hospice Course Outline:  Exploration of the ro
 le and function of Hospice in 30 minutes end-of-life-care Discuss core inf
 ormation on Death in America 30 minutes Multicultural Perspective on after
 life belief and rituals 60 minutes  Evaluations 10 minutes Objectives:...
DTSTART;TZID=America/New_York:20150324T090000
DTEND;TZID=America/New_York:20150324T113000
END:VEVENT
END:VCALENDAR
