BEGIN:VCALENDAR
PRODID:-//eluceo/ical//2.0/EN
VERSION:2.0
CALSCALE:GREGORIAN
BEGIN:VEVENT
UID:207388e640d095277073e601f98263b5
DTSTAMP:20260421T202653Z
SUMMARY:The 3/4 Life Challenge – Who Is That Person in the Mirror?
DESCRIPTION:Jewish Federation of West-Central New Jersey\nCommunity Calenda
 r\nhttps://jfedwcnj.org/calendar/the-34-life-challenge-who-is-that-person-
 in-the-mirror\n\nAs we age we become more aware of our own mortality and a
 sk how we can live so life has meaning. In this presentation\, we will ex
 plore how a series of Torah texts can form a foundation for our own life
 ’s next stage. Following Rabbi Address’ talk\, representatives from t
 he Wilf Campus for Jewish Living will be available to discuss and advise 
 on specific challenges related to aging and care giving.\n\nRabbi Richard 
 F. Address\, is the founder and Director of Jewish Sacred Aging\, LLC® an
 d ...
DTSTART;TZID=America/New_York:20171119T110000
DTEND;TZID=America/New_York:20171119T130000
END:VEVENT
END:VCALENDAR
