BEGIN:VCALENDAR
PRODID:-//eluceo/ical//2.0/EN
VERSION:2.0
CALSCALE:GREGORIAN
BEGIN:VEVENT
UID:653e9895ff0b4102d192bbdd862dcceb
DTSTAMP:20260423T231341Z
SUMMARY:THE 100% SOLUTION- SOLOMON GOLDSTEIN-ROSE
DESCRIPTION:Jewish Federation of West-Central New Jersey\nCommunity Calenda
 r\nhttps://jfedwcnj.org/calendar/the-100-solution--solomon-goldstein-rose-
 1600783355\n\n“At last–a global plan that actually adds up.”–James
  Hansen\, former director\, NASA Goddard Institute for Space Studies\n\n T
 he world must reach negative greenhouse gas emissions by 2050 to avoid the
  most catastrophic effects of climate change. Yet no single plan has addre
 ssed the full scope of the problem–until now.\n\n In The 100% Solution\,
  Solomon Goldstein-Rose–a leading millennial climate activist and a form
 er Massachusetts state representative–makes clear what needs to...
DTSTART;TZID=America/New_York:20210204T190000
DTEND;TZID=America/New_York:20210204T210000
END:VEVENT
END:VCALENDAR
