BEGIN:VCALENDAR
PRODID:-//eluceo/ical//2.0/EN
VERSION:2.0
CALSCALE:GREGORIAN
BEGIN:VEVENT
UID:5723502ecada8628dca396346ca321c6
DTSTAMP:20260423T192914Z
SUMMARY:Thanksgiving Volunteering & holiday Toy Drive Kickoff
DESCRIPTION:Jewish Federation of West-Central New Jersey\nCommunity Calenda
 r\nhttps://jfedwcnj.org/calendar/thanksgiving-volunteering-holiday-toy-dri
 ve-kickoff\n\nHelp prepare freshly made Kosher Thanksgiving meals to be di
 stributed to those in need or home bound. Help wrap and deliver Holiday To
 y Drive boxes throughout Hunterdon County.
DTSTART;TZID=America/New_York:20151122T170000
DTEND;TZID=America/New_York:20151122T190000
END:VEVENT
END:VCALENDAR
