BEGIN:VCALENDAR
PRODID:-//eluceo/ical//2.0/EN
VERSION:2.0
CALSCALE:GREGORIAN
BEGIN:VEVENT
UID:ffecbfcc2d682d6394856ba00a901aa0
DTSTAMP:20260423T050445Z
SUMMARY:Texas Hold'em Tournament
DESCRIPTION:Jewish Federation of West-Central New Jersey\nCommunity Calenda
 r\nhttps://jfedwcnj.org/calendar/texas-holdem-tournament-1443976820\n\nHav
 e Fun... Win Prizes and Support the JCC Scholarship Fund.\nRegistration fe
 e includes: Dinner\, Snacks\, Open Bar &amp\; 6\,000 Chips\n\nRegister on 
 or before October 20: Buy-in $125\n\nRegister after October 20: Buy-in $14
 5/person\nWant Extra Chips?? Pre-Purchase your Re-buy/Add-on for $100 and 
 receive 7\,500 additional chips!\n\nRe-buys and add-ons allowed until the 
 ﬁrst break in the Tournament. ($100 for 5\,000 chips\; $50 for 2\,500 ch
 ips)\n
DTSTART;TZID=America/New_York:20151029T203000
DTEND;TZID=America/New_York:20151029T233000
END:VEVENT
END:VCALENDAR
