BEGIN:VCALENDAR
PRODID:-//eluceo/ical//2.0/EN
VERSION:2.0
CALSCALE:GREGORIAN
BEGIN:VEVENT
UID:0507fb2d54cfd91b691e1c91d99d5420
DTSTAMP:20260422T123936Z
SUMMARY:Temptation Transformed: How the Forbidden Fruit Became an Apple
DESCRIPTION:Jewish Federation of West-Central New Jersey\nCommunity Calenda
 r\nhttps://jfedwcnj.org/calendar/temptation-transformed-how-the-forbidden-
 fruit-became-an-apple-1667498756\n\nHow did the apple\, unmentioned by the
  Bible\, become the dominant symbol of temptation\, sin\, and the Fall? Ru
 tgers professor Azzan-Yadin Israel will discuss his new book\, "Temptation
  Transformed\," which takes the reader on a journey into the mystery behin
 d why the forbidden fruit became an apple\, upending an explanation that s
 tood for centuries. Free and open to the public. Free parking available.
DTSTART;TZID=America/New_York:20230222T190000
DTEND;TZID=America/New_York:20230222T203000
END:VEVENT
END:VCALENDAR
