BEGIN:VCALENDAR
PRODID:-//eluceo/ical//2.0/EN
VERSION:2.0
CALSCALE:GREGORIAN
BEGIN:VEVENT
UID:5190fe0d8b049f647a73d4aa7e50d2bf
DTSTAMP:20260423T210937Z
SUMMARY:Temple Beth-El Dinner Dance
DESCRIPTION:Jewish Federation of West-Central New Jersey\nCommunity Calenda
 r\nhttps://jfedwcnj.org/calendar/templebeth-eldinnerdance\n\nJoin us for a
 n evening of celebration at our Tree of Life Gala.\n\nWe’re honoring pas
 t presidents Ellen Davidson\, Steve Weitz and Liz Cohen for their years of
  service and stewardship for the community they love. \n\nDinner\, Live B
 and and Dancing\, Dinner Auction/Party Board\, and more!\n\nhttps://www.ou
 rbethel.org/events/tree-of-life-gala/
DTSTART;TZID=America/New_York:20190511T183000
DTEND;TZID=America/New_York:20190511T230000
END:VEVENT
END:VCALENDAR
