BEGIN:VCALENDAR
PRODID:-//eluceo/ical//2.0/EN
VERSION:2.0
CALSCALE:GREGORIAN
BEGIN:VEVENT
UID:03f714c313e6a165aa97bcacfb8fa060
DTSTAMP:20260422T014025Z
SUMMARY:Temple Sholom Family Picnic
DESCRIPTION:Jewish Federation of West-Central New Jersey\nCommunity Calenda
 r\nhttps://jfedwcnj.org/calendar/temple-sholom-family-picnic-1534271182\n\
 nKids must be accompanied by an adult – no drop-offs please! Non Temple 
 Members Welcome.\nBring a picnic blanket\, lawn chairs\, baseball mitts\, 
 etc.\n(But please leave the pets at home!)\n
DTSTART;TZID=America/New_York:20180923T120000
DTEND;TZID=America/New_York:20180923T160000
END:VEVENT
END:VCALENDAR
