BEGIN:VCALENDAR
PRODID:-//eluceo/ical//2.0/EN
VERSION:2.0
CALSCALE:GREGORIAN
BEGIN:VEVENT
UID:b5fa50baa496cb27196a4ccda6591097
DTSTAMP:20260424T040004Z
SUMMARY:Temple Sholom Community Purim Extravaganza
DESCRIPTION:Jewish Federation of West-Central New Jersey\nCommunity Calenda
 r\nhttps://jfedwcnj.org/calendar/temple-sholom-community-purim-extravaganz
 a-1551215306\n\nThis event is OPEN TO THE PUBLIC
DTSTART;TZID=America/New_York:20190317T100000
DTEND;TZID=America/New_York:20190317T120000
END:VEVENT
END:VCALENDAR
