BEGIN:VCALENDAR
PRODID:-//eluceo/ical//2.0/EN
VERSION:2.0
CALSCALE:GREGORIAN
BEGIN:VEVENT
UID:528d94c18e1661eef8466b417d819fdb
DTSTAMP:20260423T195145Z
SUMMARY:Temple Sholom Community Latke Palooza
DESCRIPTION:Jewish Federation of West-Central New Jersey\nCommunity Calenda
 r\nhttps://jfedwcnj.org/calendar/temple-sholom-community-latke-palooza\n\n
 Starting at 10:30 am in the Sanctuary with a Hanukkah Sing Along led by Ra
 bbi Cece\, followed by learning with Rabbi Dan.\n\nLatkes\, Dreidel Spinni
 ng Contest\, Hanukkah Arts and Crafts\,and projects for the entire family!
 \n\nPlease bring your own Hanukiah and candles to light with us.  All are
  welcome!
DTSTART;TZID=America/New_York:20191215T103000
DTEND;TZID=America/New_York:20191215T113000
END:VEVENT
END:VCALENDAR
