BEGIN:VCALENDAR
PRODID:-//eluceo/ical//2.0/EN
VERSION:2.0
CALSCALE:GREGORIAN
BEGIN:VEVENT
UID:6f598bdfb396ec4c8a6d795d877324f4
DTSTAMP:20260422T085440Z
SUMMARY:Temple Sholom Comedy Night
DESCRIPTION:Jewish Federation of West-Central New Jersey\nCommunity Calenda
 r\nhttps://jfedwcnj.org/calendar/temple-sholom-comedy-night-1510772154\n\n
 RSVP now as tickets are selling fast!
DTSTART;TZID=America/New_York:20180120T193000
DTEND;TZID=America/New_York:20180120T213000
END:VEVENT
END:VCALENDAR
