BEGIN:VCALENDAR
PRODID:-//eluceo/ical//2.0/EN
VERSION:2.0
CALSCALE:GREGORIAN
BEGIN:VEVENT
UID:99e8c455dc3e9fad76c32f4d4d3f2011
DTSTAMP:20260423T074932Z
SUMMARY:Temple Har Shalom's Hot Topics "The Choices We Make"
DESCRIPTION:Jewish Federation of West-Central New Jersey\nCommunity Calenda
 r\nhttps://jfedwcnj.org/calendar/temple-har-shaloms-hot-topics-the-choices
 -we-make-1456433399\n\nHot Topics programs are part of Temple Har Shalom&#
 039\;s Congregational Learning. We will be honoring Women&#039\;s History 
 Month with our program on March 6th at 9:00am. This Hot Topics will focus 
 on &quot\;The Choices We Make&quot\; Three of our THS members will discuss
  the paths they took to become who they are today. We invite you to join t
 he discussion about the consequences and the rewards in relation to a woma
 n&#039\;s  life choices.
DTSTART;TZID=America/New_York:20160306T090000
DTEND;TZID=America/New_York:20160306T110000
END:VEVENT
END:VCALENDAR
