BEGIN:VCALENDAR
PRODID:-//eluceo/ical//2.0/EN
VERSION:2.0
CALSCALE:GREGORIAN
BEGIN:VEVENT
UID:c7ca79e7046915fe30f6ad3dcac56b3e
DTSTAMP:20260423T184108Z
SUMMARY:Temple Har Shalom's 5th Annual Touch-a-Truck
DESCRIPTION:Jewish Federation of West-Central New Jersey\nCommunity Calenda
 r\nhttps://jfedwcnj.org/calendar/temple-har-shaloms-5th-annual-touch-a-tru
 ck-1455824675\n\nTouch-a-Truck is Mountain Top School's largest fundraisin
 g event of the year. It is open to the community and provides an opportuni
 ty for kids of all ages to experience life-size vehicles and interact with
  community support leaders like police officers\, fire men\, construction 
 workers and many more.
DTSTART;TZID=America/New_York:20160515T110000
DTEND;TZID=America/New_York:20160515T150000
END:VEVENT
END:VCALENDAR
