BEGIN:VCALENDAR
PRODID:-//eluceo/ical//2.0/EN
VERSION:2.0
CALSCALE:GREGORIAN
BEGIN:VEVENT
UID:8faf0c287e59bb46c2f22219e25ecdd3
DTSTAMP:20260424T021346Z
SUMMARY:Temple Har Shalom Torah Study
DESCRIPTION:Jewish Federation of West-Central New Jersey\nCommunity Calenda
 r\nhttps://jfedwcnj.org/calendar/temple-har-shalom-torah-study\n\nNourish 
 your body and soul by joining us for Shabbat Morning Torah Study. We will 
 take time to explore the week's parsha and how it applies to our lives tod
 ay. No prior knowledge is required.
DTSTART;TZID=America/New_York:20211120T093000
DTEND;TZID=America/New_York:20211120T103000
END:VEVENT
END:VCALENDAR
