BEGIN:VCALENDAR
PRODID:-//eluceo/ical//2.0/EN
VERSION:2.0
CALSCALE:GREGORIAN
BEGIN:VEVENT
UID:9694242d1ce555c27858333ee2332b1e
DTSTAMP:20260424T014500Z
SUMMARY:Temple Har Shalom Blood Drive
DESCRIPTION:Jewish Federation of West-Central New Jersey\nCommunity Calenda
 r\nhttps://jfedwcnj.org/calendar/temple-har-shalom-blood-drive-1729709799\
 n\nTemple Har Shalom will be hosting a Red Cross Blood Drive on Sunday\, N
 ovember 17\, 2024. We invite members of the community to perform the mitzv
 ah of saving a life by participating in this drive.
DTSTART;TZID=America/New_York:20241117T083000
DTEND;TZID=America/New_York:20241117T133000
END:VEVENT
END:VCALENDAR
