BEGIN:VCALENDAR
PRODID:-//eluceo/ical//2.0/EN
VERSION:2.0
CALSCALE:GREGORIAN
BEGIN:VEVENT
UID:0b52baa617f2d2f20ed0d64d2ccbe04c
DTSTAMP:20260421T213046Z
SUMMARY:Temple Har Shalom American Red Cross Blood Drive
DESCRIPTION:Jewish Federation of West-Central New Jersey\nCommunity Calenda
 r\nhttps://jfedwcnj.org/calendar/temple-har-shalom-american-red-cross-bloo
 d-drive\n\nTemple Har Shalom in Warren invites members of the community to
  perform a mitzvah on Sunday\, January 22\, 2023. We are hosting a Blood D
 rive from 8:30 AM to 1:30 PM at our location. Sign up to donate blood and 
 save a life!
DTSTART;TZID=America/New_York:20230122T083000
DTEND;TZID=America/New_York:20230122T133000
END:VEVENT
END:VCALENDAR
