BEGIN:VCALENDAR
PRODID:-//eluceo/ical//2.0/EN
VERSION:2.0
CALSCALE:GREGORIAN
BEGIN:VEVENT
UID:10e5c4e0f223c6d52a9ae016a1e61a68
DTSTAMP:20260422T065032Z
SUMMARY:Temple Beth-El Shabbat Across America Seder & Dinner
DESCRIPTION:Jewish Federation of West-Central New Jersey\nCommunity Calenda
 r\nhttps://jfedwcnj.org/calendar/temple-beth-el-shabbat-across-america-sed
 er--dinner-1520352590\n\nShabbat Across America at Temple Beth-El.\nFriday
 \, March 16\nMa'ariv services 6:00 p.m.\nShabbat Seder and Dinner at 6:30 
 p.m.\n\nCome join the celebration of what unites all Jews -- Shabbat!\n\nW
 e start at 6:00 with Ma'ariv services in the sanctuary at which time yahrz
 eits will be read for Kaddish. We will then proceed to the social hall for
  Kabbalat Shabbat worship and a dairy pot-luck meal.\n\nPlease click on li
 nk to rsvp http://tinyurl.com/TBEShabbatAcrossAmerica2018\nor email info@t
 emple...
DTSTART;TZID=America/New_York:20180316T183000
DTEND;TZID=America/New_York:20180316T210000
END:VEVENT
END:VCALENDAR
