BEGIN:VCALENDAR
PRODID:-//eluceo/ical//2.0/EN
VERSION:2.0
CALSCALE:GREGORIAN
BEGIN:VEVENT
UID:4c5088974ad2587cee6dff774cb5daed
DTSTAMP:20260422T131321Z
SUMMARY:Temple Beth-El Purim Carnival
DESCRIPTION:Jewish Federation of West-Central New Jersey\nCommunity Calenda
 r\nhttps://jfedwcnj.org/calendar/temple-beth-el-purim-carnival-1519849090\
 n\nPurim Carnival Sunday\, March 4 Doors Open 11:00 a.m.  (or 10:30 for ki
 ds in Kindergarten or younger)Don't miss the TBE Purim Carnival put on by 
 our senior youth group (SMOOCHY) and sponsored by various temple groups. L
 ots of games\, prizes\, and FUN!Adults and kids are encouraged to come in 
 costume. The costume parade will be held at noon.
DTSTART;TZID=America/New_York:20180304T110000
DTEND;TZID=America/New_York:20180304T123000
END:VEVENT
END:VCALENDAR
