BEGIN:VCALENDAR
PRODID:-//eluceo/ical//2.0/EN
VERSION:2.0
CALSCALE:GREGORIAN
BEGIN:VEVENT
UID:5372edf06263423ca2fe56266f4ed6b2
DTSTAMP:20260422T085620Z
SUMMARY:Temple Beth-El of Hillsborough Congregational Passover Seder
DESCRIPTION:Jewish Federation of West-Central New Jersey\nCommunity Calenda
 r\nhttps://jfedwcnj.org/calendar/temple-beth-el-of-hillsborough-congregati
 onal-passover-seder-1522077971\n\nJoin Rabbi Gluck and Cantor Pincus as th
 ey lead us on the second night of Pesach. Feel free to bring your own Kosh
 er-for-Passover wine. Manischewitz is provided.
DTSTART;TZID=America/New_York:20180331T183000
DTEND;TZID=America/New_York:20180331T203000
END:VEVENT
END:VCALENDAR
