BEGIN:VCALENDAR
PRODID:-//eluceo/ical//2.0/EN
VERSION:2.0
CALSCALE:GREGORIAN
BEGIN:VEVENT
UID:fd6ccf7f918d2f0fade188fd68094a4d
DTSTAMP:20260422T101843Z
SUMMARY:Temple Beth-El Jewish Film Series: Year Zero
DESCRIPTION:Jewish Federation of West-Central New Jersey\nCommunity Calenda
 r\nhttps://jfedwcnj.org/calendar/temple-beth-el-jewish-film-series-year-ze
 ro\n\nIt seems to happen at some point in everyone’s life: you are permi
 tted (or forced)\nto start over again from square one. That very thing hap
 pens to the protagonists of Year Zero. Employing the popular multiple-stor
 ies genre\, the film offers a portrait of contemporary life as seen in the
  everyday realities of several characters. A real estate agent upset with 
 his wife’s newest pregnancy\, throwing their marriage into turmoil\;\na 
 blind man who has lost his seeing eye dog\; a suspicious busine...
DTSTART;TZID=America/New_York:20171028T190000
DTEND;TZID=America/New_York:20171028T210000
END:VEVENT
END:VCALENDAR
