BEGIN:VCALENDAR
PRODID:-//eluceo/ical//2.0/EN
VERSION:2.0
CALSCALE:GREGORIAN
BEGIN:VEVENT
UID:56067eb613b234b240ed65999b26426b
DTSTAMP:20260422T140712Z
SUMMARY:Temple Beth-El Jewish Film Series Transit
DESCRIPTION:Jewish Federation of West-Central New Jersey\nCommunity Calenda
 r\nhttps://jfedwcnj.org/calendar/temple-beth-el-jewish-film-series-transit
 \n\nLocation: TBE\n\nSuggested donation: $5\n\nTransit explores the inters
 ecting stories of Filipinos in Tel Aviv when a newly enacted law deporting
  the children of migrant workers looms over their lives. Janet\, a domesti
 c worker on an expired visa\, struggles to hide her half-Israeli daughter\
 , Yael- a rebellious teenager caught up in a juvenile romance. More vulner
 able to the deportation law because he is under the age of five is Janet
 ’s four-year old nephew\, Joshua\, whose father\, Moises\, works...
DTSTART;TZID=America/New_York:20180421T190000
DTEND;TZID=America/New_York:20180421T210000
END:VEVENT
END:VCALENDAR
