BEGIN:VCALENDAR
PRODID:-//eluceo/ical//2.0/EN
VERSION:2.0
CALSCALE:GREGORIAN
BEGIN:VEVENT
UID:530b0933be4c6b89ade9e211265debb7
DTSTAMP:20260422T095255Z
SUMMARY:Temple Beth-El Jewish Film Series: The Farewell Party
DESCRIPTION:Jewish Federation of West-Central New Jersey\nCommunity Calenda
 r\nhttps://jfedwcnj.org/calendar/temple-beth-el-jewish-film-series-the-far
 ewell-party\n\nTemple Beth-El Jewish Film Series\n\nSuggested donation of 
 $5\n\nThe Farewell Party is a compassionate dark comedy about friendship a
 nd knowing when to say goodbye. A group of friends at a Jerusalem retireme
 nt home build a machine for self-euthanasia in order to help their termina
 lly ill friend. When rumors of the machine begin to spread\, more and more
  people ask for their help\, and the friends are faced with an emotional d
 ilemma.\n\nAwards: Best Film at Israeli Academy Awards\, Audience Award...
DTSTART;TZID=America/New_York:20161112T190000
DTEND;TZID=America/New_York:20161112T210000
END:VEVENT
END:VCALENDAR
