BEGIN:VCALENDAR
PRODID:-//eluceo/ical//2.0/EN
VERSION:2.0
CALSCALE:GREGORIAN
BEGIN:VEVENT
UID:4c4f74b54dd7a36be803ecc6cb27b72b
DTSTAMP:20260421T013747Z
SUMMARY:Temple Beth-El Jewish Film Series: Rock the Casbah
DESCRIPTION:Jewish Federation of West-Central New Jersey\nCommunity Calenda
 r\nhttps://jfedwcnj.org/calendar/temple-beth-el-jewish-film-series-rock-th
 e-casbah\n\nSuggested donation of $5\n\nIn recent years\, there have been 
 a number of important films that criticize the "occupation" - including R
 oom 514 shown here in 2013. Recently a new one\, Rock the Casbah has bee
 n winning many awards. The year is 1989. In an era of Palestinian demands 
 for independence\, the State of Israel sends young soldiers to oversee the
  Arab population in the Occupied Territories. The film tells the story of 
 soldiers assigned to catch some of the violent demonstrators in the ...
DTSTART;TZID=America/New_York:20161217T190000
DTEND;TZID=America/New_York:20161217T210000
END:VEVENT
END:VCALENDAR
