BEGIN:VCALENDAR
PRODID:-//eluceo/ical//2.0/EN
VERSION:2.0
CALSCALE:GREGORIAN
BEGIN:VEVENT
UID:86d1305f652022445c8bb2b163e6cc54
DTSTAMP:20260422T225905Z
SUMMARY:Temple Beth-El Jewish Film Series: Policeman
DESCRIPTION:Jewish Federation of West-Central New Jersey\nCommunity Calenda
 r\nhttps://jfedwcnj.org/calendar/temple-beth-el-jewish-film-series-policem
 an\n\nSuggested donation of $5\n\nPoliceman is the first feature film from
  writer/director Nadav Lapid. The film is an Israeli social study distinc
 tly split into two halves. The first half follows the ultra-macho leader 
 of a squad of highly trained operatives who specialize in the neutralizati
 on of Arab terrorists. The second half focuses on a group of Jewish studen
 t revolutionaries\, dissatisfied with the gap between the country's riches
 t citizens and the struggling lower class\, who plot to send ...
DTSTART;TZID=America/New_York:20160325T190000
DTEND;TZID=America/New_York:20160325T210000
END:VEVENT
END:VCALENDAR
