BEGIN:VCALENDAR
PRODID:-//eluceo/ical//2.0/EN
VERSION:2.0
CALSCALE:GREGORIAN
BEGIN:VEVENT
UID:ef95b86846d08a297c863ee2753c165f
DTSTAMP:20260421T234053Z
SUMMARY:Temple Beth-El Jewish Film Series Brothers
DESCRIPTION:Jewish Federation of West-Central New Jersey\nCommunity Calenda
 r\nhttps://jfedwcnj.org/calendar/temple-beth-el-jewish-film-series-brother
 s\n\nLocation: TBE Suggested donation of $5\n\nDan chooses to work on the 
 land\, living in a kibbutz in the South of Israel. Aaron\, his brother\, i
 s a doctor of law and philosophy and a distinguished scholar of the Torah.
  He comes to Jerusalem from the United States to defend the rights of Tora
 h students. The conflict which arises between the two brothers reflects th
 at of a so- ciety torn between its religious and political principles. Thi
 s film opens a subtle yet essential debate on the question of...
DTSTART;TZID=America/New_York:20180512T190000
DTEND;TZID=America/New_York:20180512T210000
END:VEVENT
END:VCALENDAR
