BEGIN:VCALENDAR
PRODID:-//eluceo/ical//2.0/EN
VERSION:2.0
CALSCALE:GREGORIAN
BEGIN:VEVENT
UID:5b4b63b602167d08c3d68732250f6294
DTSTAMP:20260421T235731Z
SUMMARY:Temple Beth-El Jewish Film Series Apples from the Desert
DESCRIPTION:Jewish Federation of West-Central New Jersey\nCommunity Calenda
 r\nhttps://jfedwcnj.org/calendar/temple-beth-el-jewish-film-series-apples-
 from-the-desert\n\nSuggested donation: $5\n\nRebecca is an only child\, li
 ving a cloistered existence with her strictly religious Sephardic parents 
 in Jerusalem. Unhappy with the restrictive traditions of home and communit
 y\, she secretly breaks taboos\, attending dance classes where she forms a
  relationship with a secular kibbutznik. Suspicious and angry in the face 
 of Rebecca’s growing acts of rebellion\, her strict father reacts by set
 ting in motion a prearranged marriage to an older widower with children of
  h...
DTSTART;TZID=America/New_York:20180317T190000
DTEND;TZID=America/New_York:20180317T210000
END:VEVENT
END:VCALENDAR
