BEGIN:VCALENDAR
PRODID:-//eluceo/ical//2.0/EN
VERSION:2.0
CALSCALE:GREGORIAN
BEGIN:VEVENT
UID:067ab2b0c383c6932224c3e4fb71749c
DTSTAMP:20260422T145013Z
SUMMARY:Temple Beth-El Cantorial Concert
DESCRIPTION:Jewish Federation of West-Central New Jersey\nCommunity Calenda
 r\nhttps://jfedwcnj.org/calendar/temple-beth-el-cantorial-concert-16236136
 47\n\nCantor Risa Wallach and friends celebrate Jewish musical arts.
DTSTART;TZID=America/New_York:20211212T160000
DTEND;TZID=America/New_York:20211212T180000
END:VEVENT
END:VCALENDAR
