BEGIN:VCALENDAR
PRODID:-//eluceo/ical//2.0/EN
VERSION:2.0
CALSCALE:GREGORIAN
BEGIN:VEVENT
UID:cb0f2b6d42001397dc9bfc6be49d39bc
DTSTAMP:20260421T223931Z
SUMMARY:Temple Beth-El Blood Drive
DESCRIPTION:Jewish Federation of West-Central New Jersey\nCommunity Calenda
 r\nhttps://jfedwcnj.org/calendar/temple-beth-el-blood-drive\n\nDonors Need
 ed. You’re invited to donate blood at TBE's upcoming blood drive. Pleas
 e invite friends and family and sign up here. Just one donation can save m
 ore than one life!\n\nClick here to schedule an appointment.\n\nIf you nee
 d help registering\, contact Jacki Skole with your full name\, preferred 
 time to donate\, telephone number/email\, and blood type (if known).\n\nMa
 ximize your blood donation. Help more patients. If you are an eligible ty
 pe O\, B – or A – donor\, consider making a ...
DTSTART;TZID=America/New_York:20241117T090000
DTEND;TZID=America/New_York:20241117T140000
END:VEVENT
END:VCALENDAR
