BEGIN:VCALENDAR
PRODID:-//eluceo/ical//2.0/EN
VERSION:2.0
CALSCALE:GREGORIAN
BEGIN:VEVENT
UID:9ebb4ddbad2d54a5e923fd2824e39539
DTSTAMP:20260423T212454Z
SUMMARY:TBE Young Family Pajama Havdalah
DESCRIPTION:Jewish Federation of West-Central New Jersey\nCommunity Calenda
 r\nhttps://jfedwcnj.org/calendar/tbe-young-family-pajama-havdalah\n\nCome 
 join us for a fun evening of music\, crafts\, fun\, pizza\, and\, of cours
 e\, Havdalah\, the special ceremony that concludes Shabbat. The event is a
  favorite every year. It is designed for families with children up to seco
 nd grade (older siblings welcome). Come in your pajamas (adults are welcom
 e to wear pajamas\, too!)\n\nPlease register here by January 8th. The co
 st is $18 per family.\n\nQuestions? Please contact Andrea Dean.
DTSTART;TZID=America/New_York:20250111T170000
DTEND;TZID=America/New_York:20250111T183000
END:VEVENT
END:VCALENDAR
