BEGIN:VCALENDAR
PRODID:-//eluceo/ical//2.0/EN
VERSION:2.0
CALSCALE:GREGORIAN
BEGIN:VEVENT
UID:821a867ef63f66f8c3a376db1ff27a65
DTSTAMP:20260422T191517Z
SUMMARY:TBE Reads "Remarkably Bright Creatures"
DESCRIPTION:Jewish Federation of West-Central New Jersey\nCommunity Calenda
 r\nhttps://jfedwcnj.org/calendar/tbe-reads-remarkably-bright-creatures\n\n
 Remarkably Bright Creatures is an exploration of friendship\, reckoning\
 , and hope\, tracing a widow’s unlikely connection with a giant Pacific 
 octopus.\n\nAfter Tova Sullivan’s husband died\, she began working the n
 ight shift at the Sowell Bay Aquarium\, mopping floors and tidying up. Kee
 ping busy has always helped her cope\, which she’s been doing since her 
 eighteen-year-old son\, Erik\, mysteriously vanished on a boat in Puget So
 und over thirty years ago....
DTSTART;TZID=America/New_York:20241216T191500
DTEND;TZID=America/New_York:20241216T210000
END:VEVENT
END:VCALENDAR
