BEGIN:VCALENDAR
PRODID:-//eluceo/ical//2.0/EN
VERSION:2.0
CALSCALE:GREGORIAN
BEGIN:VEVENT
UID:7f77f9fa00b3fa8dda5e08f0ae8d0cc6
DTSTAMP:20260423T163731Z
SUMMARY:Tastes Like Home
DESCRIPTION:Jewish Federation of West-Central New Jersey\nCommunity Calenda
 r\nhttps://jfedwcnj.org/calendar/tastes-like-home\n\nJoin us for a heartwa
 rming and meaningful baking program where we come together to honor and re
 member.\nThis special event will feature baking recipes from the Tastes Li
 ke Home website\, a collection of recipes by\ncherished Israeli hostages h
 eld in Gaza. All ages welcome. Families encouraged to attend 
DTSTART;TZID=America/New_York:20241006T130000
DTEND;TZID=America/New_York:20241006T150000
END:VEVENT
END:VCALENDAR
