BEGIN:VCALENDAR
PRODID:-//eluceo/ical//2.0/EN
VERSION:2.0
CALSCALE:GREGORIAN
BEGIN:VEVENT
UID:58b4141d866ecc0579bbf17c9f8dcb8b
DTSTAMP:20260423T104908Z
SUMMARY:Talmud Tales
DESCRIPTION:Jewish Federation of West-Central New Jersey\nCommunity Calenda
 r\nhttps://jfedwcnj.org/calendar/talmud-tales-1508874422\n\nJoin Rabbi Dan
  for an exploration and discussion of tales of ancient sages\, using the t
 ext of one of Israel's great teachers\, MK Ruth Calderon. No fee for this 
 class\, however you will need to purchase the book for $20 and yes we have
  them.
DTSTART;TZID=America/New_York:20171026T190000
DTEND;TZID=America/New_York:20171026T201500
END:VEVENT
END:VCALENDAR
