BEGIN:VCALENDAR
PRODID:-//eluceo/ical//2.0/EN
VERSION:2.0
CALSCALE:GREGORIAN
BEGIN:VEVENT
UID:a5aa2eef0e5cdaaa88a1c76d8d9af9a6
DTSTAMP:20260420T141354Z
SUMMARY:Talking with Your Doctor
DESCRIPTION:Jewish Federation of West-Central New Jersey\nCommunity Calenda
 r\nhttps://jfedwcnj.org/calendar/talking-with-your-doctor-1573667904\n\nLe
 arn what is means to have a successful doctor's visit! Get tips for commun
 icating health concerns and gain valuable insight for fostering partnershi
 ps with your healthcare providers.\n\nJoin Aging Life Care Professional Ch
 ristopher Kellogg\, MSW\, LSW\, for this informative workshop. Lunch will 
 be provided for this presentation
DTSTART;TZID=America/New_York:20191212T120000
DTEND;TZID=America/New_York:20191212T140000
END:VEVENT
END:VCALENDAR
