BEGIN:VCALENDAR
PRODID:-//eluceo/ical//2.0/EN
VERSION:2.0
CALSCALE:GREGORIAN
BEGIN:VEVENT
UID:b5bf890cc7b03939b941ada6687a080c
DTSTAMP:20260422T005620Z
SUMMARY:Syria's Secret Library: Reading and Redemption in a Town Under Sieg
 e
DESCRIPTION:Jewish Federation of West-Central New Jersey\nCommunity Calenda
 r\nhttps://jfedwcnj.org/calendar/syrias-secret-library-reading-and-redempt
 ion-in-a-town-under-siege\n\nBBC reporter Mike Thomson will be speaking to
  us from London about his book. Syria's Secret Library: Reading and Redem
 ption in a Town Under Seige (Community Program):\n\n\n\nJoin us for this 
 inspirational Online program with live Q&A on Friday\, November 20th\, 1
 0 - 11 AM EST\n\n\nThis book is about the remarkable story of a small\, ma
 keshift library in the town of Daraya\, and the people who found hope and 
 humanity in its books during a four-year siege.\n\nDaraya lies on the frin
 ge of ...
DTSTART;TZID=America/New_York:20201120T100000
DTEND;TZID=America/New_York:20201120T110000
END:VEVENT
END:VCALENDAR
