BEGIN:VCALENDAR
PRODID:-//eluceo/ical//2.0/EN
VERSION:2.0
CALSCALE:GREGORIAN
BEGIN:VEVENT
UID:4af2dfe8e51bee579c8ae6de9816017a
DTSTAMP:20260420T052545Z
SUMMARY:Sweethearts Masquerade Dance in East Brunswick
DESCRIPTION:Jewish Federation of West-Central New Jersey\nCommunity Calenda
 r\nhttps://jfedwcnj.org/calendar/sweethearts-masquerade-dance-in-east-brun
 swick-1484538193\n\nTemple B'nai Shalom in East Brunswick will host FIRE &
  ICE\, a Sweethearts Masquerade Dance featuring DJ Mateo\, a fun evening o
 f music and dance\, on February 11 from 8:00pm to Midnight. Tickets are $3
 6/couple which includes light refreshments\, dessert reception and champag
 ne punch (plus BYOB). Bring your favorite mask or receive a free one upon 
 entry. Babysitting is extra and available on request. Fire & Ice will be h
 eld at the temple at 15 Fern Road in East Brunswick. Contact rbrenowitz1@a
 ol....
DTSTART;TZID=America/New_York:20170211T200000
DTEND;TZID=America/New_York:20170211T235500
END:VEVENT
END:VCALENDAR
