BEGIN:VCALENDAR
PRODID:-//eluceo/ical//2.0/EN
VERSION:2.0
CALSCALE:GREGORIAN
BEGIN:VEVENT
UID:d2a6baf61b16b2ec441b80bdd423d96f
DTSTAMP:20260423T182434Z
SUMMARY:Healthy  Passover Cooking  Demonstration & Tasting with Susie Fisch
 bein
DESCRIPTION:Jewish Federation of West-Central New Jersey\nCommunity Calenda
 r\nhttps://jfedwcnj.org/calendar/susie-fischbein-healthy-cooking-for-passo
 ver\n\nHealthy Passover Cooking Demonstration & Tasting With Susie Fishbei
 n\, author of the Kosher by Design cookbook series.\n\nWednesday\, March 2
 3\, 2022\n\nat 6:45pm \n\n775 Talamini Road Bridgewater\, NJ\n\nCouvert: $
 54 \n\n \n\nSponsorship opportunities available \n\n \n\nFor questions
  please contact Lauren Edelman at Ledelman@jfedshaw.org or 908-758-2003 
DTSTART;TZID=America/New_York:20220323T184500
DTEND;TZID=America/New_York:20220323T210000
END:VEVENT
END:VCALENDAR
