BEGIN:VCALENDAR
PRODID:-//eluceo/ical//2.0/EN
VERSION:2.0
CALSCALE:GREGORIAN
BEGIN:VEVENT
UID:6eab6de03664d86f6299f4c2dddca9fd
DTSTAMP:20260422T072626Z
SUMMARY:Sushi in the Sukkah
DESCRIPTION:Jewish Federation of West-Central New Jersey\nCommunity Calenda
 r\nhttps://jfedwcnj.org/calendar/sushi-in-the-sukkah-1537552438\n\nAll fam
 ilies are welcome to enjoy a delicious meal in the JCC Sukkah in observanc
 e of Sukkot\, the first of three harvest holidays. We'll learn how to make
  homemade vegetable sushi and will provide a child-friendly dinner as well
 . We will also have a lalav and etrog available for you to shake and fulfi
 ll the holiday's mitzvah\, commandment. $10 per person or $36 max per fami
 ly
DTSTART;TZID=America/New_York:20180927T183000
DTEND;TZID=America/New_York:20180927T203000
END:VEVENT
END:VCALENDAR
