BEGIN:VCALENDAR
PRODID:-//eluceo/ical//2.0/EN
VERSION:2.0
CALSCALE:GREGORIAN
BEGIN:VEVENT
UID:403530b1faeb703a415a0a18d0e9593b
DTSTAMP:20260421T065526Z
SUMMARY:Sushi in the Sukkah
DESCRIPTION:Jewish Federation of West-Central New Jersey\nCommunity Calenda
 r\nhttps://jfedwcnj.org/calendar/sushi-in-the-sukkah\n\nJoin the Jewish Fe
 deration young leadership division for a night celebrating sukkot by havin
 g sushi in the Temple Beth - El sukkah. \n\nCouvert $36 
DTSTART;TZID=America/New_York:20191017T183000
DTEND;TZID=America/New_York:20191017T203000
END:VEVENT
END:VCALENDAR
