BEGIN:VCALENDAR
PRODID:-//eluceo/ical//2.0/EN
VERSION:2.0
CALSCALE:GREGORIAN
BEGIN:VEVENT
UID:e0e5275f4bad2b41219bc86c3164083b
DTSTAMP:20260423T183816Z
SUMMARY:Survival and Hope Beyond Genocide
DESCRIPTION:Jewish Federation of West-Central New Jersey\nCommunity Calenda
 r\nhttps://jfedwcnj.org/calendar/survival-and-hope-beyond-genocide\n\nIn h
 onor of the UN International Day of Peace and in partnership with Mercer H
 olocaust\, Genocide\, & Human Rights Education Center\, please join us onl
 ine for the documentary film “Children of Genocide: The Five Who Surviv
 ed” Voices of genocide survivors from The Holocaust\, Cambodia\, Rwanda\
 , Bosnia\, and Sudan. The documentary focuses on five adults who were chi
 ldren at the time of their particular country’s crisis. The survivors re
 count their childhood experiences with genocide and thei...
DTSTART;TZID=America/New_York:20220923T100000
DTEND;TZID=America/New_York:20220923T110000
END:VEVENT
END:VCALENDAR
