BEGIN:VCALENDAR
PRODID:-//eluceo/ical//2.0/EN
VERSION:2.0
CALSCALE:GREGORIAN
BEGIN:VEVENT
UID:5ba4e041dd83b468e1f021161e77a8c5
DTSTAMP:20260422T104305Z
SUMMARY:Supper in the Sukkah
DESCRIPTION:Jewish Federation of West-Central New Jersey\nCommunity Calenda
 r\nhttps://jfedwcnj.org/calendar/supper-in-the-sukkah-1474931152\n\nPlease
  join us at CKI for &quot\;Supper in the Sukkah!&quot\;
DTSTART;TZID=America/New_York:20161023T171500
DTEND;TZID=America/New_York:20161023T184500
END:VEVENT
END:VCALENDAR
