BEGIN:VCALENDAR
PRODID:-//eluceo/ical//2.0/EN
VERSION:2.0
CALSCALE:GREGORIAN
BEGIN:VEVENT
UID:057c5c627dbdda49870dca628dcc1e0a
DTSTAMP:20260422T031746Z
SUMMARY:Supernova Documentry
DESCRIPTION:Jewish Federation of West-Central New Jersey\nCommunity Calenda
 r\nhttps://jfedwcnj.org/calendar/supernova-documentry\n\nDocumentary: Sup
 ernova Music Festival Massacre. A retrospective of 24 hours at t
 he Nova festival in Re'im through the lens of those who survive
 d the horror. Grades 8 & Up - Hillsborough\, NJ \n\n 
DTSTART;TZID=America/New_York:20240923T190000
DTEND;TZID=America/New_York:20240923T210000
END:VEVENT
END:VCALENDAR
