BEGIN:VCALENDAR
PRODID:-//eluceo/ical//2.0/EN
VERSION:2.0
CALSCALE:GREGORIAN
BEGIN:VEVENT
UID:1685a973d13e85b453aea7c275008dcd
DTSTAMP:20260423T200914Z
SUMMARY:Superhero Race to Victory
DESCRIPTION:Jewish Federation of West-Central New Jersey\nCommunity Calenda
 r\nhttps://jfedwcnj.org/calendar/superhero-race-to-victory-1488899316\n\nT
 his Fundraising initiative has been created &amp\; led by a committee of t
 eens &amp\; adults at the Shimon and Sara Birnbaum JCC.\n\n5K Racers\n$25/
 Person\n\n1 Mile Family Fun Walk\n$20/Family\n\nWalk-ins are welcome\n$30/
 Person\n\nRegister for 5K by March 31 &amp\; Receive T-shirt!\n\nMEDALS!\n
 Awarded to 1st\, 2nd &amp\; 3rd place winners\, male &amp\; female\, in mu
 ltiple age brackets. \n\nSPONSORSHIP OPPORTUNITIES AVAILABLE!
DTSTART;TZID=America/New_York:20170423T081500
DTEND;TZID=America/New_York:20170423T110000
END:VEVENT
END:VCALENDAR
