BEGIN:VCALENDAR
PRODID:-//eluceo/ical//2.0/EN
VERSION:2.0
CALSCALE:GREGORIAN
BEGIN:VEVENT
UID:3bf8f99b528635d79f4ccf5d56c6c5e2
DTSTAMP:20260421T131355Z
SUMMARY:Super Week- Create Holiday Cards for US & Israeli Soliders
DESCRIPTION:Jewish Federation of West-Central New Jersey\nCommunity Calenda
 r\nhttps://jfedwcnj.org/calendar/super-week-1551289136\n\nCome create holi
 day cards for US & Israeli Soliders. 
DTSTART;TZID=America/New_York:20191205T150000
DTEND;TZID=America/New_York:20191205T180000
END:VEVENT
END:VCALENDAR
