BEGIN:VCALENDAR
PRODID:-//eluceo/ical//2.0/EN
VERSION:2.0
CALSCALE:GREGORIAN
BEGIN:VEVENT
UID:7e57aabd5644121f6f826456e9a9976a
DTSTAMP:20260421T180253Z
SUMMARY:Super week- Supporting Locals in Need
DESCRIPTION:Jewish Federation of West-Central New Jersey\nCommunity Calenda
 r\nhttps://jfedwcnj.org/calendar/super-week-1551289077\n\nCome Support loc
 als in need by making bagged lunches for childen and teens. 
DTSTART;TZID=America/New_York:20191204T190000
DTEND;TZID=America/New_York:20191204T203000
END:VEVENT
END:VCALENDAR
