BEGIN:VCALENDAR
PRODID:-//eluceo/ical//2.0/EN
VERSION:2.0
CALSCALE:GREGORIAN
BEGIN:VEVENT
UID:e0170da895345f582c76fa96fabdf29e
DTSTAMP:20260421T231656Z
SUMMARY:Super week- Uncork your Support
DESCRIPTION:Jewish Federation of West-Central New Jersey\nCommunity Calenda
 r\nhttps://jfedwcnj.org/calendar/super-week-1551289019\n\nJoin us for some
  wine\, cheese and make a few calls on behalf of our community. 
DTSTART;TZID=America/New_York:20191203T190000
DTEND;TZID=America/New_York:20191203T210000
END:VEVENT
END:VCALENDAR
