BEGIN:VCALENDAR
PRODID:-//eluceo/ical//2.0/EN
VERSION:2.0
CALSCALE:GREGORIAN
BEGIN:VEVENT
UID:3e4899e5b028326b1e3479f871751377
DTSTAMP:20260423T043516Z
SUMMARY:Create Holiday Cards for US & Israeli Soldiers
DESCRIPTION:Jewish Federation of West-Central New Jersey\nCommunity Calenda
 r\nhttps://jfedwcnj.org/calendar/super-week-1528301740\n\nCome create holi
 day cards for US & Israeli Soldiers. 
DTSTART;TZID=America/New_York:20181129T150000
DTEND;TZID=America/New_York:20181129T180000
END:VEVENT
END:VCALENDAR
