BEGIN:VCALENDAR
PRODID:-//eluceo/ical//2.0/EN
VERSION:2.0
CALSCALE:GREGORIAN
BEGIN:VEVENT
UID:754961ceb58bebea2881324893ada1ef
DTSTAMP:20260422T073746Z
SUMMARY:Making Bagged Lunches for the Needy
DESCRIPTION:Jewish Federation of West-Central New Jersey\nCommunity Calenda
 r\nhttps://jfedwcnj.org/calendar/super-week-1528301477\n\nFeed the needy b
 y helping to make bagged lunches for children. 
DTSTART;TZID=America/New_York:20181128T190000
DTEND;TZID=America/New_York:20181128T203000
END:VEVENT
END:VCALENDAR
